BEGIN:VCALENDAR
VERSION:2.0
PRODID:-//Singing Bird Coaching - ECPv6.15.20//NONSGML v1.0//EN
CALSCALE:GREGORIAN
METHOD:PUBLISH
X-WR-CALNAME:Singing Bird Coaching
X-ORIGINAL-URL:https://singingbirdcoaching.com
X-WR-CALDESC:Events for Singing Bird Coaching
REFRESH-INTERVAL;VALUE=DURATION:PT1H
X-Robots-Tag:noindex
X-PUBLISHED-TTL:PT1H
BEGIN:VTIMEZONE
TZID:America/Chicago
BEGIN:DAYLIGHT
TZOFFSETFROM:-0600
TZOFFSETTO:-0500
TZNAME:CDT
DTSTART:20220313T080000
END:DAYLIGHT
BEGIN:STANDARD
TZOFFSETFROM:-0500
TZOFFSETTO:-0600
TZNAME:CST
DTSTART:20221106T070000
END:STANDARD
BEGIN:DAYLIGHT
TZOFFSETFROM:-0600
TZOFFSETTO:-0500
TZNAME:CDT
DTSTART:20230312T080000
END:DAYLIGHT
BEGIN:STANDARD
TZOFFSETFROM:-0500
TZOFFSETTO:-0600
TZNAME:CST
DTSTART:20231105T070000
END:STANDARD
BEGIN:DAYLIGHT
TZOFFSETFROM:-0600
TZOFFSETTO:-0500
TZNAME:CDT
DTSTART:20240310T080000
END:DAYLIGHT
BEGIN:STANDARD
TZOFFSETFROM:-0500
TZOFFSETTO:-0600
TZNAME:CST
DTSTART:20241103T070000
END:STANDARD
BEGIN:DAYLIGHT
TZOFFSETFROM:-0600
TZOFFSETTO:-0500
TZNAME:CDT
DTSTART:20250309T080000
END:DAYLIGHT
BEGIN:STANDARD
TZOFFSETFROM:-0500
TZOFFSETTO:-0600
TZNAME:CST
DTSTART:20251102T070000
END:STANDARD
END:VTIMEZONE
BEGIN:VEVENT
DTSTART;TZID=America/Chicago:20240214T143000
DTEND;TZID=America/Chicago:20240214T160000
DTSTAMP:20260420T031444
CREATED:20240206T165956Z
LAST-MODIFIED:20240206T175556Z
UID:26909-1707921000-1707926400@singingbirdcoaching.com
SUMMARY:Sistermind Roundtable #1 - People Pleasing
DESCRIPTION:Do you struggle with people pleasing? Worry about how others will see you? Will 2024 be the year to shift this pattern and come home more deeply to yourself?\n\n\n\nJoin me and my business besties\, including feminist money maven Laura Gates-Lupton\, Nope Coach Suzanne Culberg\, the Showgirl Shaman Kellita Maloof\, witchy healer Larisa Noonan\, and creative powerhouse Karen Light as we each share our thoughts\, tips\, and experiences on how to recover from people pleasing. \n\n\n\nTo me\, pleasing is a key facet of the Good Girl energy\, which keeps our wise & wild soul essence trapped and contained. I will be sharing how the seasonal heroine’s journey back home to ourselves shifts this pattern at a foundational level. \n\n\n\nThis is a free\, no pitch\, no sales event; rather it will be jam-packed with feminine wisdom. And unlike other roundtables or summits\, you will not be added to all of our email lists when you sign up.  \n\n\n\nThe people pleasing roundtable will be recorded\, but those who attend live will be able to access a bonus Q&A (which will not be recorded).
URL:https://singingbirdcoaching.com/event/roundtable-one/
LOCATION:Online\, CT\, United States
ATTACH;FMTTYPE=image/jpeg:https://singingbirdcoaching.com/wp-content/uploads/2022/03/MountainPhoto-scaled.jpg
END:VEVENT
BEGIN:VEVENT
DTSTART;TZID=America/Chicago:20240125T143000
DTEND;TZID=America/Chicago:20240125T153000
DTSTAMP:20260420T031444
CREATED:20240113T180332Z
LAST-MODIFIED:20240115T213151Z
UID:26861-1706193000-1706196600@singingbirdcoaching.com
SUMMARY:Fear of Visibility Workshop with Larisa Noonan
DESCRIPTION:Fear of Visibility\nHow Fundamentalism Stops Your Soul From Shining\n\nDo you notice an attitude of ‘it’s all or nothing; now or never’ in yourself? A ‘life or death’ sense of urgency or desperation? A fear of being visible in sharing your precious gifts and skills with the world? Or even of sharing your most authentic self with others? \nIf so\, the Pattern of Fundamentalism is likely at play.\nAs I see it\, fundamentalism is a pattern arising over generations out of unresolved trauma. It is a way of seeking control (over self\, others\, the world) in order to feel safe\, in order to mitigate the feelings of powerlessness\, helplessness\, fear\, pain that unresolved trauma perpetuates. \nFundamentalism casts the world into stark black and white (fundamentalism is rooted in the binary). There is little-to-no room for nuance. Further\, fundamentalism judges one aspect of the binary as good\, the other as bad. \nFor instance\, success is good; failure is bad. \nEven further\, fundamentalism casts that judgement (and shame) onto the individual themselves. \nie: If I fail and failure is bad\, then I am bad. \nNo wonder the sense of urgency and desperation! No one wants to fail and be bad!\nFear of visibly sharing our soul and gifts is also often rooted in this ‘right/wrong’ binary including a fear of being punished if we don’t get/do [everything] exactly ‘right.’ \nIn this 1-hr experiential workshop:\nWe will explore and begin to dismantle the Pattern of Fundamentalism in relation to sharing your wild essence and soul work with the world. \nWe’ll talk about what this pattern is and how to recognize it both in yourself and in the world around you. From there\, we explore steps towards the dismantling of this pattern. \nAs we reconcile this pattern\, we discover greater capacity for being visible in our authenticity (and our imperfection)\, for living into right timing\, and for sharing our soul’s gifts with others in ways that also nourish and support ourselves. \nThe details\nWhen: January 25th at 3:30pm EST\, 2:30pm CST\, 12:30pm PSTWhere: online via zoom \nThis workshop will not be recorded; live attendance is required. \nYour Guide and Teacher\, Larisa Noonan\nThis free workshop will be led by my friend and beloved colleague Larisa Noonan. Larisa is an ancestral healing practitioner and shadow work coach who supports witchy healers in shining their soul-work into the world. \nYou can register for this workshop via the link below. Please note that by registering for this workshop your email be added to both Linda and Larisa’s newsletter lists. A separate email will be sent to you with the Zoom link after registration.
URL:https://singingbirdcoaching.com/event/fear-of-visibility-workshop-with-larisa-noonan/
LOCATION:Online\, CT\, United States
ATTACH;FMTTYPE=image/jpeg:https://singingbirdcoaching.com/wp-content/uploads/2024/01/courtnie-tosana-brqqSBSXPac-unsplash.jpg
END:VEVENT
BEGIN:VEVENT
DTSTART;TZID=America/Chicago:20231208T110000
DTEND;TZID=America/Chicago:20231208T123000
DTSTAMP:20260420T031444
CREATED:20220303T210947Z
LAST-MODIFIED:20231207T165831Z
UID:26733-1702033200-1702038600@singingbirdcoaching.com
SUMMARY:Unleash Your Wise & Wild Woman
DESCRIPTION:Unleash your Wise & Wild Woman to live a more soulful\, authentic\, and meaningful life\n90-minute Online Workshop \nFriday\, December 8th from 11am – 12:30pm CST \n  \nWorkshop Details\nThis workshop is for you if you are a woman ready to embody her wild and authentic life fully. You long for more freedom. Meaning. Creativity. A big\, lush\, and juicy life that truly feels like your own. \nBut despite this sincere longing\, it has continued to elude you. \nMaybe you feel the call to slow down. To step away from the endless productivity of our hustle culture. To turn towards yourself\, your soul longings\, your emotions\, and your body. You want less time staring at screens and more time gazing at the moon. A more ancient rhythm is calling to you\, but you are unsure of what it means if you say “yes”. \nOr perhaps you can sense a newness emerging\, an expression of your soul that is yearning to be birthed\, and you know that this type of expansion will bring you into uncharted territory both in yourself and in the world. \nThough you hear this inner call\, whether its inviting you in toward yourself or out into the world in a new way\, something seems to stand in the way. \nSomething stands in the way of you inhabiting yourself\, your life\, and your sacred gifts fully.  \nYou might be plagued by fears of what other people will think. Wonder how you will feel worthy if you step off the hamster wheel of productivity. Fear disappointing the other people in your life that rely on you and see you as their rock. \nThese fears are normal. They are part and parcel of what I call the inner cage that prevents us from coloring too far outside the lines. This is a cage that you have carried with you for quite some time; it may have kept you feeling “safe”\, but also feeling far too small. It has been there with you regardless of where you’ve gone\, what communities you’ve joined\, and what relationships you’ve left behind. \nThis inner cage is why\, even if you have made some big\, external life changes in an effort to tap into your Wise & Wild Woman\, you still feel trapped. \nBut it doesn’t have to be that way. \nBy embarking upon the seasonal heroine’s journey – by reclaiming your deep feminine ground and integrating your supportive masculine energy –  you can embody and express your wild soul\, experience the joy of reciprocal relationships\, relish in the tenderness of your vulnerable humanness\, stand in your power\, view life through the sacred and symbolic eyes of the soul\, and give of your sacred gifts…all at the same time! \nWoman\, you are already Wise\, Wild and full of Wonder; it is simply time for you to remember. \nIn this workshop\, we will:\n\nUnearth and name the key facets of the Wise & Wild Woman energy\, so that you recognize her when you see/experience her!\nLearn how you can embody and express this energy in your own life\, moment to moment\nUnderstand how the sacred dance of the feminine and masculine energies within is key to claiming your wholeness\nBased upon my seasonal map of the heroine’s journey\, identify where you are now and what your next step is on the journey to unleashing your Wise & Wild Woman\nBriefly get to know the main three archetypes that make up the inner cage: The Good Girl\, The Rebel and the Tyrant King\, and how they show up in your life\nRemember how to evoke and call forth the Wise and Wild Woman energy\n\nThis workshop will NOT be recorded to protect the sanctity of the space. I will ask that you attend with your camera on. There will be opportunity to share your voice in the space\, as well as some light movement.
URL:https://singingbirdcoaching.com/event/unleash-wise-wild/
LOCATION:Online\, CT\, United States
ATTACH;FMTTYPE=image/jpeg:https://singingbirdcoaching.com/wp-content/uploads/2022/03/MountainPhoto-scaled.jpg
END:VEVENT
BEGIN:VEVENT
DTSTART;TZID=America/Chicago:20230404T140000
DTEND;TZID=America/Chicago:20230404T153000
DTSTAMP:20260420T031444
CREATED:20211119T105035Z
LAST-MODIFIED:20230221T022948Z
UID:26694-1680616800-1680622200@singingbirdcoaching.com
SUMMARY:Dream Work Mystery Class
DESCRIPTION:Dream Work Mystery Class\nA playful twist on a masterclass! \nTuesday\, April 4th from 2pm – 3:30pm CST\nDo you dream frequently\, but either forget them when you wake up or have no idea how they might connect to your waking life? Have you tried analytical approaches to dream work\, but found that they seem to wring the juice out of your dreams rather than enhancing their magical qualities? \nCultivating a relationship with my dreams over the last decade has felt like having a direct line of communication with my soul and the greater mysteries of the cosmos. It’s also one of my FAVORITE practices to do with clients! \nBut I know that for many\, our dreams are SO mysterious (and strange) that we often have absolutely NO IDEA what they are communicating or expressing. \nIn this mystery class\, I will share how to approach your dreams\, the core tenets of my personal approach to dream work\, and three key practices to work with your dreams (which we will workshop in the class!). \nThe Details\nOn Tuesday\, April 4\, 2023\, we will circle up via Zoom (link will be emailed after you register). This will be a moderately interactive class and I ask that you come prepared to have your camera on. There will be some movement; for this portion you are welcome to turn your camera off if that feels more comfortable. \nWhat You’ll Need\n\nYour glorious self!!\nA dream (it could be recent or quite old) to workshop.\nA journal and pen.\nPlease bring a candle or some other way to set sacred\, intentional space.\nAn open and curious mind.\nSomething to drink.\n\nWhat You’ll Learn\n\nHow to approach your dreams so you won’t send them running for the hills\nHow to help yourself remember your dreams\nThe core tenets of my approach to dream work\, including the art of imaginative seeing and how to tap into this playful energy\nThree specific ways that you can work with your dreams\, which we will play with and workshop in the class\nThe importance of recurring dreams\n\nYour Not-Super-Mysterious Host\nI am Linda Katz. A wild feminine life coach\, writer\, Qoya movement teacher\, and dream whisperer.
URL:https://singingbirdcoaching.com/event/dreamwork/
LOCATION:Online\, CT\, United States
ATTACH;FMTTYPE=image/jpeg:https://singingbirdcoaching.com/wp-content/uploads/2021/01/DreamPhoto-scaled.jpg
END:VEVENT
BEGIN:VEVENT
DTSTART;TZID=America/Chicago:20230305T110000
DTEND;TZID=America/Chicago:20230305T123000
DTSTAMP:20260420T031444
CREATED:20230216T212954Z
LAST-MODIFIED:20230304T154106Z
UID:26769-1678014000-1678019400@singingbirdcoaching.com
SUMMARY:It Reads Like a Dream - Soulful Imagination Workshop
DESCRIPTION:It Reads Like A Dream Popup Workshop!\nA Playful and Soulful Exploration of Our Childhood Imagination\nSunday\, March 5th from 11am – 12:30pm CST\nIn this class\, we are going to play with our favorite childhood stories\, treating them like dreams and seeing them through the eyes of the wildly soulful imagination. \nWhat was it about your favorite childhood story that drew you to it? What were the characters that spoke to you? The themes? \nWhat if the stories that you loved as a child held soulful wisdom for your life journey as an adult? \nThat is what we will be exploring in this 90-minute workshop! \nThe Details\nOn Sunday\, March 5\, 2023\, we will circle up via Zoom (link will be emailed after you register). This will be a moderately interactive class and I ask that you come prepared to have your camera on to protect the sanctity of the space. \nWhat You’ll Need\n\nYour glorious self!!\nOne of your favorite childhood stories (think something with enough plot\, but not too complicated…trust your intuition here)\nA journal and pen.\nPlease bring a candle or some other way to set sacred\, intentional space.\nAn open and curious mind.\nSomething to drink\, because you know\, hydration is important.\n\nWhat You’ll Receive\n\nThree techniques to play with your childhood story\, that you can also apply to your dreams and waking life\, to see what meaning might be contained within it\nI will walk you through one of my favorite childhood stories and illustrate how it mirrors my own soul journey\, including the central conflict and the medicine that is called for\nJournaling questions to help you deepen your story practice\nYou will have the opportunity to share your story and takeaways\, as well as receive the intuitive hits of another participant in breakout rooms (this will be optional; if you are more introverted or simply don’t feel like chatting that day\, you are welcome to journal on your own)\nWe will workshop a couple of stories together as a group to harvest the wisdom of the hive and to get a sense of how this feels in practice\nInvitations for ways to expand your imaginative sight in your daily life\n\nWho is this for?\nMuch like our night dreams\, mysterious waking lives\, and oracle/tarot cards\, children’s stories carry an archetypal and magical wisdom. \nThis is for you if you love or are drawn to playful imaginative practices\, and would love to integrate their soulful wisdom into your life. \nYou have an open mind and realize this is not a linear or analytical process; you are open to receiving whatever the story might have for you on this particular day (even if it may not be what you are expecting). I am afraid\, we will not be solving the riddle of life in this 90-minute workshop. \nYou feel like a child at heart and still love the stories you did as a kid. \nYou long for soulful and meaningful experiences. You have a sense that adulthood as an endless string of obligations is missing something vital and life-enhancing. \nYour Host\nI am Linda Katz. A wild feminine life coach\, writer\, Qoya movement teacher\, and dream whisperer. I am equal parts silly and soulful\, a bit of an old soul who is young at heart. For the past decade\, I have been unearthing my own wildly feminine soul and setting her free in my life. I love being in community with other folks who long to unleash their own wise and wild selves into the world.
URL:https://singingbirdcoaching.com/event/it-reads-like-a-dream/
LOCATION:Online\, CT\, United States
ATTACH;FMTTYPE=image/jpeg:https://singingbirdcoaching.com/wp-content/uploads/2023/02/elena-mozhvilo-3xeNMt-S5TY-unsplash-scaled.jpg
END:VEVENT
END:VCALENDAR